BEGIN:VCALENDAR
VERSION:2.0
PRODID:-//Asociación Española de Floristas - ECPv6.0.0//NONSGML v1.0//EN
CALSCALE:GREGORIAN
METHOD:PUBLISH
X-ORIGINAL-URL:https://aefi.es
X-WR-CALDESC:Eventos para Asociación Española de Floristas
REFRESH-INTERVAL;VALUE=DURATION:PT1H
X-Robots-Tag:noindex
X-PUBLISHED-TTL:PT1H
BEGIN:VTIMEZONE
TZID:Europe/Paris
BEGIN:DAYLIGHT
TZOFFSETFROM:+0100
TZOFFSETTO:+0200
TZNAME:CEST
DTSTART:20150329T010000
END:DAYLIGHT
BEGIN:STANDARD
TZOFFSETFROM:+0200
TZOFFSETTO:+0100
TZNAME:CET
DTSTART:20151025T010000
END:STANDARD
BEGIN:DAYLIGHT
TZOFFSETFROM:+0100
TZOFFSETTO:+0200
TZNAME:CEST
DTSTART:20160327T010000
END:DAYLIGHT
BEGIN:STANDARD
TZOFFSETFROM:+0200
TZOFFSETTO:+0100
TZNAME:CET
DTSTART:20161030T010000
END:STANDARD
BEGIN:DAYLIGHT
TZOFFSETFROM:+0100
TZOFFSETTO:+0200
TZNAME:CEST
DTSTART:20170326T010000
END:DAYLIGHT
BEGIN:STANDARD
TZOFFSETFROM:+0200
TZOFFSETTO:+0100
TZNAME:CET
DTSTART:20171029T010000
END:STANDARD
BEGIN:DAYLIGHT
TZOFFSETFROM:+0100
TZOFFSETTO:+0200
TZNAME:CEST
DTSTART:20180325T010000
END:DAYLIGHT
BEGIN:STANDARD
TZOFFSETFROM:+0200
TZOFFSETTO:+0100
TZNAME:CET
DTSTART:20181028T010000
END:STANDARD
END:VTIMEZONE
BEGIN:VEVENT
DTSTART;TZID=Europe/Paris:20150309T080000
DTEND;TZID=Europe/Paris:20180312T170000
DTSTAMP:20260425T133738
CREATED:20220712T062837Z
LAST-MODIFIED:20220712T062837Z
UID:26924-1425888000-1520874000@aefi.es
SUMMARY:Detalles Diseño de Escaparates\, Madrid
DESCRIPTION:Queremos seguir impulsando la presencia digital de vuestros negocios. Por ello\, te invitamos a participar en la nueva sesión online “Edición de vídeos para mejorar las ventas de tu floristería con CapCut”\, impartida por la experta en comunicación digital Clara Soler. En esta formación descubrirás cómo crear vídeos atractivos y profesionales con CapCut para dar mayor visibilidad a tus productos\, reforzar tu marca y conectar mejor con tus clientes en redes sociales. Aprenderás a transformar tus composiciones florales en contenido visual dinámico que impulse el interés y las ventas de tu floristería. ¿Qué aprenderás en esta sesión? ✅ Crear vídeos llamativos y efectivos para redes sociales mostrando tus productos florales.✅ Editar contenidos de forma sencilla con CapCut\, sin necesidad de experiencia previa.✅ Mejorar la presentación visual de tu marca para captar la atención de tus clientes.✅ Aplicar todo lo aprendido de manera práctica en el día a día de tu floristería. 📌 Detalles de la sesión: 💻 Modalidad: Online📅 Fecha: Lunes\, 1 de junio🕜 Horario: De 14:30 a 17:00 h👩‍🏫 Imparte: Clara Soler Una formación 100% práctica\, pensada para que puedas implementar lo aprendido desde el primer día. ✨ ¡No pierdas la oportunidad de dar un salto en la comunicación visual de tu floristería! 						\n				\n				\n				\n							Acción programada en el marco del convenio firmado el 5 de marzo de 2026 con la Consejería de Economía\, Hacienda y Empleo\, de la Comunidad de Madrid para la formación y profesionalización del sector. 						\n				\n				\n		\n				\n				\n																\n															\n															\n				\n				\n				\n					\n			\n						\n						Inscríbete aquí
URL:https://aefi.es/evento/detalles-diseno-de-escaparates-madrid/
LOCATION:Madrid
CATEGORIES:Formación
ATTACH;FMTTYPE=image/jpeg:https://aefi.es/wp-content/uploads/2022/06/DISENO-DE-ESCAPARATES-MADRID-scaled-1.jpg
END:VEVENT
BEGIN:VEVENT
DTSTART;TZID=Europe/Paris:20150323T090000
DTEND;TZID=Europe/Paris:20180323T190000
DTSTAMP:20260425T133739
CREATED:20220712T062837Z
LAST-MODIFIED:20220712T062837Z
UID:26923-1427101200-1521831600@aefi.es
SUMMARY:Diseño de Escaparates\, Valencia
DESCRIPTION:Queremos seguir impulsando la presencia digital de vuestros negocios. Por ello\, te invitamos a participar en la nueva sesión online “Edición de vídeos para mejorar las ventas de tu floristería con CapCut”\, impartida por la experta en comunicación digital Clara Soler. En esta formación descubrirás cómo crear vídeos atractivos y profesionales con CapCut para dar mayor visibilidad a tus productos\, reforzar tu marca y conectar mejor con tus clientes en redes sociales. Aprenderás a transformar tus composiciones florales en contenido visual dinámico que impulse el interés y las ventas de tu floristería. ¿Qué aprenderás en esta sesión? ✅ Crear vídeos llamativos y efectivos para redes sociales mostrando tus productos florales.✅ Editar contenidos de forma sencilla con CapCut\, sin necesidad de experiencia previa.✅ Mejorar la presentación visual de tu marca para captar la atención de tus clientes.✅ Aplicar todo lo aprendido de manera práctica en el día a día de tu floristería. 📌 Detalles de la sesión: 💻 Modalidad: Online📅 Fecha: Lunes\, 1 de junio🕜 Horario: De 14:30 a 17:00 h👩‍🏫 Imparte: Clara Soler Una formación 100% práctica\, pensada para que puedas implementar lo aprendido desde el primer día. ✨ ¡No pierdas la oportunidad de dar un salto en la comunicación visual de tu floristería! 						\n				\n				\n				\n							Acción programada en el marco del convenio firmado el 5 de marzo de 2026 con la Consejería de Economía\, Hacienda y Empleo\, de la Comunidad de Madrid para la formación y profesionalización del sector. 						\n				\n				\n		\n				\n				\n																\n															\n															\n				\n				\n				\n					\n			\n						\n						Inscríbete aquí
URL:https://aefi.es/evento/diseno-de-escaparates-valencia/
CATEGORIES:Formación
ATTACH;FMTTYPE=image/jpeg:https://aefi.es/wp-content/uploads/2022/06/DISENO-DE-ESCAPARATES-VALENCIA.jpg
END:VEVENT
END:VCALENDAR