BEGIN:VCALENDAR
VERSION:2.0
PRODID:-//Asociación Española de Floristas - ECPv6.0.0//NONSGML v1.0//EN
CALSCALE:GREGORIAN
METHOD:PUBLISH
X-WR-CALNAME:Asociación Española de Floristas
X-ORIGINAL-URL:https://aefi.es
X-WR-CALDESC:Eventos para Asociación Española de Floristas
REFRESH-INTERVAL;VALUE=DURATION:PT1H
X-Robots-Tag:noindex
X-PUBLISHED-TTL:PT1H
BEGIN:VTIMEZONE
TZID:Europe/Madrid
BEGIN:DAYLIGHT
TZOFFSETFROM:+0100
TZOFFSETTO:+0200
TZNAME:CEST
DTSTART:20260329T010000
END:DAYLIGHT
BEGIN:STANDARD
TZOFFSETFROM:+0200
TZOFFSETTO:+0100
TZNAME:CET
DTSTART:20261025T010000
END:STANDARD
END:VTIMEZONE
BEGIN:VEVENT
DTSTART;TZID=Europe/Madrid:20260228T090000
DTEND;TZID=Europe/Madrid:20260301T200000
DTSTAMP:20260424T230906
CREATED:20260127T130245Z
LAST-MODIFIED:20260219T091953Z
UID:39496-1772269200-1772395200@aefi.es
SUMMARY:Masterclass “Azul Brutal” con Alex Molina (Savia Bruta)
DESCRIPTION:Queremos seguir impulsando la presencia digital de vuestros negocios. Por ello\, te invitamos a participar en la nueva sesión online “Edición de vídeos para mejorar las ventas de tu floristería con CapCut”\, impartida por la experta en comunicación digital Clara Soler. En esta formación descubrirás cómo crear vídeos atractivos y profesionales con CapCut para dar mayor visibilidad a tus productos\, reforzar tu marca y conectar mejor con tus clientes en redes sociales. Aprenderás a transformar tus composiciones florales en contenido visual dinámico que impulse el interés y las ventas de tu floristería. ¿Qué aprenderás en esta sesión? ✅ Crear vídeos llamativos y efectivos para redes sociales mostrando tus productos florales.✅ Editar contenidos de forma sencilla con CapCut\, sin necesidad de experiencia previa.✅ Mejorar la presentación visual de tu marca para captar la atención de tus clientes.✅ Aplicar todo lo aprendido de manera práctica en el día a día de tu floristería. 📌 Detalles de la sesión: 💻 Modalidad: Online📅 Fecha: Lunes\, 1 de junio🕜 Horario: De 14:30 a 17:00 h👩‍🏫 Imparte: Clara Soler Una formación 100% práctica\, pensada para que puedas implementar lo aprendido desde el primer día. ✨ ¡No pierdas la oportunidad de dar un salto en la comunicación visual de tu floristería! 						\n				\n				\n				\n							Acción programada en el marco del convenio firmado el 5 de marzo de 2026 con la Consejería de Economía\, Hacienda y Empleo\, de la Comunidad de Madrid para la formación y profesionalización del sector. 						\n				\n				\n		\n				\n				\n																\n															\n															\n				\n				\n				\n					\n			\n						\n						Inscríbete aquí
URL:https://aefi.es/evento/masterclass-azul-brutal-con-alex-molina-savia-bruta/
LOCATION:Complejo Deportivo la Pechina\, Pº la Pechina\, 42\, Valencia\, Valencia\, 46008
CATEGORIES:próximos eventos
ATTACH;FMTTYPE=image/jpeg:https://aefi.es/wp-content/uploads/2026/01/Demostraciones-Copa-Espana-2026.jpg
ORGANIZER;CN="AEFI":MAILTO:asociacion@aefi.es
END:VEVENT
BEGIN:VEVENT
DTSTART;VALUE=DATE:20260302
DTEND;VALUE=DATE:20260303
DTSTAMP:20260424T230907
CREATED:20251007T084803Z
LAST-MODIFIED:20251007T084803Z
UID:38336-1772409600-1772495999@aefi.es
SUMMARY:LXXVI Asamblea General Ordinaria
DESCRIPTION:Queremos seguir impulsando la presencia digital de vuestros negocios. Por ello\, te invitamos a participar en la nueva sesión online “Edición de vídeos para mejorar las ventas de tu floristería con CapCut”\, impartida por la experta en comunicación digital Clara Soler. En esta formación descubrirás cómo crear vídeos atractivos y profesionales con CapCut para dar mayor visibilidad a tus productos\, reforzar tu marca y conectar mejor con tus clientes en redes sociales. Aprenderás a transformar tus composiciones florales en contenido visual dinámico que impulse el interés y las ventas de tu floristería. ¿Qué aprenderás en esta sesión? ✅ Crear vídeos llamativos y efectivos para redes sociales mostrando tus productos florales.✅ Editar contenidos de forma sencilla con CapCut\, sin necesidad de experiencia previa.✅ Mejorar la presentación visual de tu marca para captar la atención de tus clientes.✅ Aplicar todo lo aprendido de manera práctica en el día a día de tu floristería. 📌 Detalles de la sesión: 💻 Modalidad: Online📅 Fecha: Lunes\, 1 de junio🕜 Horario: De 14:30 a 17:00 h👩‍🏫 Imparte: Clara Soler Una formación 100% práctica\, pensada para que puedas implementar lo aprendido desde el primer día. ✨ ¡No pierdas la oportunidad de dar un salto en la comunicación visual de tu floristería! 						\n				\n				\n				\n							Acción programada en el marco del convenio firmado el 5 de marzo de 2026 con la Consejería de Economía\, Hacienda y Empleo\, de la Comunidad de Madrid para la formación y profesionalización del sector. 						\n				\n				\n		\n				\n				\n																\n															\n															\n				\n				\n				\n					\n			\n						\n						Inscríbete aquí
URL:https://aefi.es/evento/lxxvi-asamblea-general-ordinaria/
LOCATION:Banco Sabadell Valencia\, Justicia\, 2\, Valencia\, 46004\, España
CATEGORIES:próximos eventos
ATTACH;FMTTYPE=image/jpeg:https://aefi.es/wp-content/uploads/2025/10/39d1b7fb-dbe2-79b9-7c31-e4595c2b5556.jpg
END:VEVENT
END:VCALENDAR