BEGIN:VCALENDAR
VERSION:2.0
PRODID:-//Asociación Española de Floristas - ECPv6.0.0//NONSGML v1.0//EN
CALSCALE:GREGORIAN
METHOD:PUBLISH
X-ORIGINAL-URL:https://aefi.es
X-WR-CALDESC:Eventos para Asociación Española de Floristas
REFRESH-INTERVAL;VALUE=DURATION:PT1H
X-Robots-Tag:noindex
X-PUBLISHED-TTL:PT1H
BEGIN:VTIMEZONE
TZID:Europe/Madrid
BEGIN:DAYLIGHT
TZOFFSETFROM:+0100
TZOFFSETTO:+0200
TZNAME:CEST
DTSTART:20240331T010000
END:DAYLIGHT
BEGIN:STANDARD
TZOFFSETFROM:+0200
TZOFFSETTO:+0100
TZNAME:CET
DTSTART:20241027T010000
END:STANDARD
END:VTIMEZONE
BEGIN:VEVENT
DTSTART;VALUE=DATE:20240610
DTEND;VALUE=DATE:20240613
DTSTAMP:20260420T230835
CREATED:20240416T104311Z
LAST-MODIFIED:20240416T105121Z
UID:33003-1717977600-1718236799@aefi.es
SUMMARY:Envoltorios sostenibles para una floristería actual y comercial
DESCRIPTION:La acción de asesoramiento «Cómo la inteligencia artificial te puede ayudar en tus redes sociales» será impartida por Clara Soler el 4 de junio en Madrid. Esta acción busca proporcionar una comprensión completa de cómo la IA puede ser una herramienta valiosa para modernizar y mejorar las operaciones de comercios en la floristería\, específicamente a través de las redes sociales. Por tanto\, sus objetivos serán los siguientes: – Entender el concepto y las aplicaciones de la Inteligencia Artificial (IA): Los asistentes comprenderán qué es la inteligencia artificial y cómo se está utilizando en el ámbito del marketing y la gestión de redes sociales. – Reconocer el potencial de la IA en las redes sociales: Explorar cómo la IA puede automatizar tareas\, personalizar la experiencia del cliente y analizar grandes volúmenes de datos para mejorar la estrategia de contenido. – Aplicar herramientas de IA en las redes sociales para floristerías: Aprender a usar herramientas específicas de IA que pueden ayudar a mejorar la visibilidad\, el engagement y las ventas a través de las redes sociales. – Desarrollar una estrategia de redes sociales asistida por IA: Capacitar a los comerciantes para que diseñen e implementen una estrategia de redes sociales que integre soluciones de IA\, enfocándose en la innovación y modernización de sus negocios. – Medir el impacto de la IA en la competitividad y ventas: Mostrar cómo la implementación de IA en las redes sociales puede traducirse en un aumento de la competitividad y mejora de las ventas. Además\, habrá un turno de preguntas abiertas para resolver dudas específicas y una discusión sobre los desafíos potenciales y cómo superarlos\, y se resolverán ejercicios prácticos. Las plazas son limitadas y se asignarán por orden de recepción de las solicitudes de inscripción. 						\n				\n				\n		\n				\n				\n							La asistencia a esta acción es GRATUITA para floristas\, autónomos o trabajadores por cuenta ajena\, de la Comunidad de Madrid\, ya que se enmarca en el calendario que la Asociación ha organizado gracias al acuerdo de colaboración firmado el 22 de marzo con la Consejería de Economía\, Hacienda y Empleo de la Comunidad de Madrid para la asistencia técnica en materia de ordenación\, promoción y fomento de la actividad comercial. 						\n				\n				\n				\n																														\n				\n				\n				\n					\n			\n						\n						Inscripciones
URL:https://aefi.es/evento/envoltorios-sostenibles-para-una-floristeria-actual-y-comercial/
CATEGORIES:próximos eventos
ATTACH;FMTTYPE=image/jpeg:https://aefi.es/wp-content/uploads/2024/04/jordi-abello-2-e1713264610479.jpg
END:VEVENT
END:VCALENDAR