BEGIN:VCALENDAR
VERSION:2.0
PRODID:-//Asociación Española de Floristas - ECPv6.0.0//NONSGML v1.0//EN
CALSCALE:GREGORIAN
METHOD:PUBLISH
X-WR-CALNAME:Asociación Española de Floristas
X-ORIGINAL-URL:https://aefi.es
X-WR-CALDESC:Eventos para Asociación Española de Floristas
REFRESH-INTERVAL;VALUE=DURATION:PT1H
X-Robots-Tag:noindex
X-PUBLISHED-TTL:PT1H
BEGIN:VTIMEZONE
TZID:Europe/Paris
BEGIN:DAYLIGHT
TZOFFSETFROM:+0100
TZOFFSETTO:+0200
TZNAME:CEST
DTSTART:20230326T010000
END:DAYLIGHT
BEGIN:STANDARD
TZOFFSETFROM:+0200
TZOFFSETTO:+0100
TZNAME:CET
DTSTART:20231029T010000
END:STANDARD
END:VTIMEZONE
BEGIN:VEVENT
DTSTART;VALUE=DATE:20230918
DTEND;VALUE=DATE:20230921
DTSTAMP:20260425T011218
CREATED:20230627T063750Z
LAST-MODIFIED:20230721T104732Z
UID:28623-1694995200-1695254399@aefi.es
SUMMARY:Composiciones comerciales con flor preservada. Tendencias de otoño
DESCRIPTION:Entre los días 13 y 17 de septiembre\, Intergift se presenta como el escaparate por excelencia de los sectores del regalo y de la decoración. La feria\, organizada por IFEMA MADRID\, reunirá a lo largo de los pabellones 3 y 5 en el área de Home&Deco los nuevos estilos y tendencias en diseño\, decoración y equipamiento del hogar\, con una completa representación de reconocidas firmas\, nacionales e internacionales\, llegadas desde Bélgica\, Colombia\, Dinamarca\, Francia\, Grecia\, Italia\, Nigeria\, Países Bajos y Portugal\, demostrando el enfoque internacional que tiene la feria y la idea de futuro con la que quiere ir ganando terreno fuera de nuestras fronteras.   						\n				\n					\n		\n				\n			\n								\n				\n							Por su parte\, el pabellón 7 estará dedicado al área Gift. Intergift\, del 13 al 17 de septiembre\, se celebrará en coincidencia con Bisutex y Madridjoya\, del 14 al 17 de septiembre y MOMAD\, que lo hará entre los días 15 y 17 del mismo mes\, configurando la mayor convocatoria de estilo de vida del sur de Europa en IFEMA MADRID. Los asociados recibirán muy pronto el código exclusivo para acceder a Intergift de forma gratuita.
URL:https://aefi.es/evento/composiciones-comerciales-con-flor-preservada-tendencias-de-otono/
LOCATION:Madrid
CATEGORIES:próximos eventos
ATTACH;FMTTYPE=image/jpeg:https://aefi.es/wp-content/uploads/2023/06/62214c13-4d52-4bb3-8171-2dd35c535590-e1689935836409.jpg
END:VEVENT
END:VCALENDAR