BEGIN:VCALENDAR
VERSION:2.0
PRODID:-//Asociación Española de Floristas - ECPv6.0.0//NONSGML v1.0//EN
CALSCALE:GREGORIAN
METHOD:PUBLISH
X-WR-CALNAME:Asociación Española de Floristas
X-ORIGINAL-URL:https://aefi.es
X-WR-CALDESC:Eventos para Asociación Española de Floristas
REFRESH-INTERVAL;VALUE=DURATION:PT1H
X-Robots-Tag:noindex
X-PUBLISHED-TTL:PT1H
BEGIN:VTIMEZONE
TZID:Europe/Madrid
BEGIN:DAYLIGHT
TZOFFSETFROM:+0100
TZOFFSETTO:+0200
TZNAME:CEST
DTSTART:20250330T010000
END:DAYLIGHT
BEGIN:STANDARD
TZOFFSETFROM:+0200
TZOFFSETTO:+0100
TZNAME:CET
DTSTART:20251026T010000
END:STANDARD
END:VTIMEZONE
BEGIN:VEVENT
DTSTART;TZID=Europe/Madrid:20250602T141500
DTEND;TZID=Europe/Madrid:20250602T161500
DTSTAMP:20260421T100524
CREATED:20250513T081551Z
LAST-MODIFIED:20251127T131453Z
UID:36124-1748873700-1748880900@aefi.es
SUMMARY:Novedades y últimas tendencias en marketing digital 2025 aplicada a floristería
DESCRIPTION:El próximo lunes 2 de junio\, la experta en comunicación digital Clara Soler impartirá la acción online “Novedades y últimas tendencias en marketing digital 2025 aplicada a floristería”. Esta acción\, organizada por la Asociación Española de Floristas\, está diseñada para proporcionar una visión clara\, actualizada y aplicable de las principales tendencias del marketing digital que marcarán el año 2025. Se trata de una sesión práctica\, cercana y pensada especialmente para floristas y pequeños comercios que desean mejorar su visibilidad\, atraer nuevos clientes y optimizar su comunicación sin necesidad de tener conocimientos técnicos avanzados. ¿Qué descubrirás en esta sesión?Durante la formación\, los asistentes conocerán las principales novedades del marketing digital adaptadas al pequeño comercio\, con especial foco en el sector florista. Entre los temas que se abordarán destacan: ✅Las tendencias clave del marketing digital para 2025. ✅El nuevo comportamiento del consumidor y cómo comunicar de forma más eficaz. ✅El uso de inteligencia artificial para personalizar contenidos y mejorar la experiencia del cliente. ✅Canales emergentes\, nuevos formatos y herramientas digitales útiles para floristería. ✅Casos prácticos\, ideas inspiradoras y soluciones fáciles de implementar. Recursos sencillos para empezar a aplicar los aprendizajes desde el primer día. Detalles de la Acción:  💻 Online📅 Fecha: 02 de junio.🕤 Horario: De 14:15 a 16:15 h. 						\n				\n				\n		\n				\n				\n																\n															\n															\n				\n				\n				\n					\n			\n						\n						Inscríbete aquí\n		\n					\n		\n				\n				\n				\n				\n							Acción gratuita\, gracias al convenio de Asociación Española de Floristas con la Consejería de Economía\, Hacienda y Empleo\, de la Comunidad de Madrid para la asistencia técnica en materia de ordenación\, promoción y fomento de la actividad comercial firmado el 7 de marzo de 2025.
URL:https://aefi.es/evento/novedades-y-ultimas-tendencias-en-marketing-digital-2025-aplicada-a-floristeria/
LOCATION:Online
CATEGORIES:próximos eventos
ATTACH;FMTTYPE=image/jpeg:https://aefi.es/wp-content/uploads/2025/05/aefi-ia-2-2.jpg
END:VEVENT
END:VCALENDAR